BEGIN:VCALENDAR
PRODID:-//eluceo/ical//2.0/EN
VERSION:2.0
CALSCALE:GREGORIAN
BEGIN:VEVENT
UID:0450fdb41451d41c7d4d81b48df2d78a
DTSTAMP:20260425T103357Z
SUMMARY:Busk frakt fyller 60 år\, Kenneth Busk
DESCRIPTION:Speaker(s):  Kenneth Busk berättar om sitt åkeri Busk frakt 
 AB som fyller 60 år och som han tog över efter sin far Bengt Busk. Kenne
 th har även utökat sin verksamhet med en lastbilsverkstad och de är nu 
 totalt 20 anställda i de två företagen.  
URL:https://ludvika.rotary2335.se/en/agenda/show/213898
DTSTART;TZID=Europe/Zurich:20250811T114500
DTEND;TZID=Europe/Zurich:20250811T124500
LOCATION:Församlingsgården\, Faluvägen 1\, 77131 Ludvika\, Sverige
CATEGORIES:Rotary
END:VEVENT
BEGIN:VTIMEZONE
TZID:Europe/Zurich
BEGIN:DAYLIGHT
DTSTART:20250811T114500
TZNAME:CEST
TZOFFSETTO:+0200
TZOFFSETFROM:+0200
END:DAYLIGHT
END:VTIMEZONE
END:VCALENDAR
