BEGIN:VCALENDAR
PRODID:-//eluceo/ical//2.0/EN
VERSION:2.0
CALSCALE:GREGORIAN
BEGIN:VEVENT
UID:889884faefd8acdb1d2b8037587bf857
DTSTAMP:20260424T091812Z
SUMMARY:Egoföredrag Marie Janus
DESCRIPTION:Talare: Vi får lyssna till Marie Janus som håller sitt egofö
 redrag
URL:https://ludvika.rotary2335.se/sv/agenda/show/217086
DTSTART;TZID=Europe/Zurich:20260427T114500
DTEND;TZID=Europe/Zurich:20260427T124500
LOCATION:Församlingsgården\, Faluvägen 1\, 77131 Ludvika\, Sverige
CATEGORIES:Rotary
END:VEVENT
BEGIN:VTIMEZONE
TZID:Europe/Zurich
BEGIN:DAYLIGHT
DTSTART:20260427T114500
TZNAME:CEST
TZOFFSETTO:+0200
TZOFFSETFROM:+0200
END:DAYLIGHT
END:VTIMEZONE
END:VCALENDAR
